BEGIN:VCALENDAR
VERSION:2.0
PRODID:-//Downtown Moncton Centre-ville Inc. - ECPv6.15.20//NONSGML v1.0//EN
CALSCALE:GREGORIAN
METHOD:PUBLISH
X-WR-CALNAME:Downtown Moncton Centre-ville Inc.
X-ORIGINAL-URL:https://downtownmoncton.com
X-WR-CALDESC:Events for Downtown Moncton Centre-ville Inc.
REFRESH-INTERVAL;VALUE=DURATION:PT1H
X-Robots-Tag:noindex
X-PUBLISHED-TTL:PT1H
BEGIN:VTIMEZONE
TZID:America/Halifax
BEGIN:DAYLIGHT
TZOFFSETFROM:-0400
TZOFFSETTO:-0300
TZNAME:ADT
DTSTART:20230312T060000
END:DAYLIGHT
BEGIN:STANDARD
TZOFFSETFROM:-0300
TZOFFSETTO:-0400
TZNAME:AST
DTSTART:20231105T050000
END:STANDARD
BEGIN:DAYLIGHT
TZOFFSETFROM:-0400
TZOFFSETTO:-0300
TZNAME:ADT
DTSTART:20240310T060000
END:DAYLIGHT
BEGIN:STANDARD
TZOFFSETFROM:-0300
TZOFFSETTO:-0400
TZNAME:AST
DTSTART:20241103T050000
END:STANDARD
BEGIN:DAYLIGHT
TZOFFSETFROM:-0400
TZOFFSETTO:-0300
TZNAME:ADT
DTSTART:20250309T060000
END:DAYLIGHT
BEGIN:STANDARD
TZOFFSETFROM:-0300
TZOFFSETTO:-0400
TZNAME:AST
DTSTART:20251102T050000
END:STANDARD
END:VTIMEZONE
BEGIN:VEVENT
DTSTART;VALUE=DATE:20241119
DTEND;VALUE=DATE:20241125
DTSTAMP:20260420T030633
CREATED:20230717T133708Z
LAST-MODIFIED:20240423T165715Z
UID:10000033-1731974400-1732492799@downtownmoncton.com
SUMMARY:FICFA
DESCRIPTION:
URL:https://downtownmoncton.com/event/ficfa/
LOCATION:Downtown\, Moncton\, NB\, Canada
CATEGORIES:Arts
ATTACH;FMTTYPE=image/jpeg:https://downtownmoncton.com/wp-content/uploads/2023/07/FICFA-High-Quality.jpg
ORGANIZER;CN="FICFA":MAILTO:infos@ficfa.com
END:VEVENT
BEGIN:VEVENT
DTSTART;TZID=America/Halifax:20241124T150000
DTEND;TZID=America/Halifax:20241124T170000
DTSTAMP:20260420T030633
CREATED:20241001T134152Z
LAST-MODIFIED:20241001T134152Z
UID:10000167-1732460400-1732467600@downtownmoncton.com
SUMMARY:Théâtre Capitol Theatre - Christmas with The Ennis Sisters
DESCRIPTION:
URL:https://downtownmoncton.com/event/theatre-capitol-theatre-christmas-with-the-ennis-sisters/
LOCATION:Théâtre Capitol Theatre\, 811 Main Street
CATEGORIES:Arts,City Life
ATTACH;FMTTYPE=image/jpeg:https://downtownmoncton.com/wp-content/uploads/2024/10/ennis-sisters-High-Quality.jpg
ORGANIZER;CN="Th%C3%A9%C3%A2tre Capitol Theatre":MAILTO:info@capitol.nb.ca
END:VEVENT
BEGIN:VEVENT
DTSTART;TZID=America/Halifax:20241126T193000
DTEND;TZID=America/Halifax:20241126T213000
DTSTAMP:20260420T030633
CREATED:20241001T134416Z
LAST-MODIFIED:20241001T134416Z
UID:10000169-1732649400-1732656600@downtownmoncton.com
SUMMARY:Théâtre Capitol Theatre - Émile Bilodeau
DESCRIPTION:
URL:https://downtownmoncton.com/event/theatre-capitol-theatre-emile-bilodeau/
LOCATION:Théâtre Capitol Theatre\, 811 Main Street
CATEGORIES:Arts,City Life
ATTACH;FMTTYPE=image/jpeg:https://downtownmoncton.com/wp-content/uploads/2024/10/emile-boudreau-High-Quality.jpg
ORGANIZER;CN="Th%C3%A9%C3%A2tre Capitol Theatre":MAILTO:info@capitol.nb.ca
END:VEVENT
BEGIN:VEVENT
DTSTART;TZID=America/Halifax:20241127T193000
DTEND;TZID=America/Halifax:20241127T213000
DTSTAMP:20260420T030633
CREATED:20241001T134618Z
LAST-MODIFIED:20241001T134618Z
UID:10000171-1732735800-1732743000@downtownmoncton.com
SUMMARY:Théâtre Capitol Theatre - A Celtic Christmas with The Celtic Tenors
DESCRIPTION:
URL:https://downtownmoncton.com/event/theatre-capitol-theatre-a-celtic-christmas-with-the-celtic-tenors/
LOCATION:Théâtre Capitol Theatre\, 811 Main Street
CATEGORIES:Arts,City Life
ATTACH;FMTTYPE=image/jpeg:https://downtownmoncton.com/wp-content/uploads/2024/10/celtic-tenors-High-Quality.jpg
ORGANIZER;CN="Th%C3%A9%C3%A2tre Capitol Theatre":MAILTO:info@capitol.nb.ca
END:VEVENT
BEGIN:VEVENT
DTSTART;TZID=America/Halifax:20241128T200000
DTEND;TZID=America/Halifax:20241128T220000
DTSTAMP:20260420T030633
CREATED:20241001T135334Z
LAST-MODIFIED:20241001T135334Z
UID:10000173-1732824000-1732831200@downtownmoncton.com
SUMMARY:Théâtre Capitol Theatre - Great Canadian Road Trip with Doc Walker\, Jason McCoy and Michelle Wright
DESCRIPTION:
URL:https://downtownmoncton.com/event/theatre-capitol-theatre-great-canadian-road-trip-with-doc-walker-jason-mccoy-and-michelle-wright/
LOCATION:Théâtre Capitol Theatre\, 811 Main Street
CATEGORIES:Arts,City Life
ATTACH;FMTTYPE=image/jpeg:https://downtownmoncton.com/wp-content/uploads/2024/10/Great-Canadian-Road-Trip-with-Doc-Walker-Jason-McCoy-and-Michelle-Wright-High-Quality.jpg
ORGANIZER;CN="Th%C3%A9%C3%A2tre Capitol Theatre":MAILTO:info@capitol.nb.ca
END:VEVENT
BEGIN:VEVENT
DTSTART;TZID=America/Halifax:20241129T200000
DTEND;TZID=America/Halifax:20241129T220000
DTSTAMP:20260420T030633
CREATED:20241001T135552Z
LAST-MODIFIED:20241001T135552Z
UID:10000175-1732910400-1732917600@downtownmoncton.com
SUMMARY:Théâtre Capitol Theatre - Randy Feltface First Banana Tour
DESCRIPTION:
URL:https://downtownmoncton.com/event/theatre-capitol-theatre-randy-feltface-first-banana-tour/
LOCATION:Théâtre Capitol Theatre\, 811 Main Street
CATEGORIES:Arts,City Life
ATTACH;FMTTYPE=image/jpeg:https://downtownmoncton.com/wp-content/uploads/2024/10/randy-feltface-High-Quality.jpg
ORGANIZER;CN="Th%C3%A9%C3%A2tre Capitol Theatre":MAILTO:info@capitol.nb.ca
END:VEVENT
END:VCALENDAR