BEGIN:VCALENDAR
VERSION:2.0
PRODID:-//Downtown Moncton Centre-ville Inc. - ECPv6.15.20//NONSGML v1.0//EN
CALSCALE:GREGORIAN
METHOD:PUBLISH
X-WR-CALNAME:Downtown Moncton Centre-ville Inc.
X-ORIGINAL-URL:https://downtownmoncton.com
X-WR-CALDESC:Events for Downtown Moncton Centre-ville Inc.
REFRESH-INTERVAL;VALUE=DURATION:PT1H
X-Robots-Tag:noindex
X-PUBLISHED-TTL:PT1H
BEGIN:VTIMEZONE
TZID:America/Halifax
BEGIN:DAYLIGHT
TZOFFSETFROM:-0400
TZOFFSETTO:-0300
TZNAME:ADT
DTSTART:20230312T060000
END:DAYLIGHT
BEGIN:STANDARD
TZOFFSETFROM:-0300
TZOFFSETTO:-0400
TZNAME:AST
DTSTART:20231105T050000
END:STANDARD
BEGIN:DAYLIGHT
TZOFFSETFROM:-0400
TZOFFSETTO:-0300
TZNAME:ADT
DTSTART:20240310T060000
END:DAYLIGHT
BEGIN:STANDARD
TZOFFSETFROM:-0300
TZOFFSETTO:-0400
TZNAME:AST
DTSTART:20241103T050000
END:STANDARD
BEGIN:DAYLIGHT
TZOFFSETFROM:-0400
TZOFFSETTO:-0300
TZNAME:ADT
DTSTART:20250309T060000
END:DAYLIGHT
BEGIN:STANDARD
TZOFFSETFROM:-0300
TZOFFSETTO:-0400
TZNAME:AST
DTSTART:20251102T050000
END:STANDARD
END:VTIMEZONE
BEGIN:VEVENT
DTSTART;VALUE=DATE:20241211
DTEND;VALUE=DATE:20241216
DTSTAMP:20260419T224039
CREATED:20241001T143352Z
LAST-MODIFIED:20241001T143352Z
UID:10000186-1733875200-1734307199@downtownmoncton.com
SUMMARY:Théâtre Capitol Theatre - Noel avec les Muse\, les frères Belivo & Roland Gauvin
DESCRIPTION:
URL:https://downtownmoncton.com/event/theatre-capitol-theatre-noel-avec-les-muse-les-freres-belivo-roland-gauvin/
LOCATION:Théâtre Capitol Theatre\, 811 Main Street
CATEGORIES:Arts,City Life
ATTACH;FMTTYPE=image/jpeg:https://downtownmoncton.com/wp-content/uploads/2024/10/noel-aven-les-muses-High-Quality.jpg
ORGANIZER;CN="Th%C3%A9%C3%A2tre Capitol Theatre":MAILTO:info@capitol.nb.ca
END:VEVENT
BEGIN:VEVENT
DTSTART;TZID=America/Halifax:20241217T193000
DTEND;TZID=America/Halifax:20241217T213000
DTSTAMP:20260419T224039
CREATED:20241001T144047Z
LAST-MODIFIED:20241001T144047Z
UID:10000192-1734463800-1734471000@downtownmoncton.com
SUMMARY:Théâtre Capitol Theatre - A Tyler Shaw Christmas
DESCRIPTION:
URL:https://downtownmoncton.com/event/theatre-capitol-theatre-a-tyler-shaw-christmas/
LOCATION:Théâtre Capitol Theatre\, 811 Main Street
CATEGORIES:Arts,City Life
ATTACH;FMTTYPE=image/jpeg:https://downtownmoncton.com/wp-content/uploads/2024/10/tyler-shaw-High-Quality.jpg
ORGANIZER;CN="Th%C3%A9%C3%A2tre Capitol Theatre":MAILTO:info@capitol.nb.ca
END:VEVENT
BEGIN:VEVENT
DTSTART;TZID=America/Halifax:20241218T193000
DTEND;TZID=America/Halifax:20241218T213000
DTSTAMP:20260419T224039
CREATED:20241001T144255Z
LAST-MODIFIED:20241001T144255Z
UID:10000194-1734550200-1734557400@downtownmoncton.com
SUMMARY:Théâtre Capitol Theatre - Choir! Choir! Choir! An Epic Holiday Sign-Along!
DESCRIPTION:
URL:https://downtownmoncton.com/event/theatre-capitol-theatre-choir-choir-choir-an-epic-holiday-sign-along/
LOCATION:Théâtre Capitol Theatre\, 811 Main Street
CATEGORIES:Arts,City Life
ATTACH;FMTTYPE=image/jpeg:https://downtownmoncton.com/wp-content/uploads/2024/10/Choir-Choir-Choir-An-Epic-Holiday-Sign-Along-High-Quality.jpg
ORGANIZER;CN="Th%C3%A9%C3%A2tre Capitol Theatre":MAILTO:info@capitol.nb.ca
END:VEVENT
BEGIN:VEVENT
DTSTART;TZID=America/Halifax:20241219T193000
DTEND;TZID=America/Halifax:20241219T213000
DTSTAMP:20260419T224039
CREATED:20241001T144721Z
LAST-MODIFIED:20241001T144721Z
UID:10000197-1734636600-1734643800@downtownmoncton.com
SUMMARY:Théâtre Capitol Theatre - Barra MacNeils An East Coast Christmas
DESCRIPTION:
URL:https://downtownmoncton.com/event/theatre-capitol-theatre-barra-macneils-an-east-coast-christmas/
LOCATION:Théâtre Capitol Theatre\, 811 Main Street
CATEGORIES:Arts,City Life
ATTACH;FMTTYPE=image/jpeg:https://downtownmoncton.com/wp-content/uploads/2024/10/barra-macneils-High-Quality.jpg
ORGANIZER;CN="Th%C3%A9%C3%A2tre Capitol Theatre":MAILTO:info@capitol.nb.ca
END:VEVENT
END:VCALENDAR