BEGIN:VCALENDAR
VERSION:2.0
PRODID:-//Downtown Moncton Centre-ville Inc. - ECPv6.15.20//NONSGML v1.0//EN
CALSCALE:GREGORIAN
METHOD:PUBLISH
X-WR-CALNAME:Downtown Moncton Centre-ville Inc.
X-ORIGINAL-URL:https://downtownmoncton.com
X-WR-CALDESC:Events for Downtown Moncton Centre-ville Inc.
REFRESH-INTERVAL;VALUE=DURATION:PT1H
X-Robots-Tag:noindex
X-PUBLISHED-TTL:PT1H
BEGIN:VTIMEZONE
TZID:America/Halifax
BEGIN:DAYLIGHT
TZOFFSETFROM:-0400
TZOFFSETTO:-0300
TZNAME:ADT
DTSTART:20230312T060000
END:DAYLIGHT
BEGIN:STANDARD
TZOFFSETFROM:-0300
TZOFFSETTO:-0400
TZNAME:AST
DTSTART:20231105T050000
END:STANDARD
BEGIN:DAYLIGHT
TZOFFSETFROM:-0400
TZOFFSETTO:-0300
TZNAME:ADT
DTSTART:20240310T060000
END:DAYLIGHT
BEGIN:STANDARD
TZOFFSETFROM:-0300
TZOFFSETTO:-0400
TZNAME:AST
DTSTART:20241103T050000
END:STANDARD
BEGIN:DAYLIGHT
TZOFFSETFROM:-0400
TZOFFSETTO:-0300
TZNAME:ADT
DTSTART:20250309T060000
END:DAYLIGHT
BEGIN:STANDARD
TZOFFSETFROM:-0300
TZOFFSETTO:-0400
TZNAME:AST
DTSTART:20251102T050000
END:STANDARD
END:VTIMEZONE
BEGIN:VEVENT
DTSTART;TZID=America/Halifax:20241103T140000
DTEND;TZID=America/Halifax:20241103T160000
DTSTAMP:20260420T042804
CREATED:20240925T112807Z
LAST-MODIFIED:20240925T113148Z
UID:10000136-1730642400-1730649600@downtownmoncton.com
SUMMARY:Théâtre Capitol Theatre - The China Syndrome (1979) Movie Screening
DESCRIPTION:
URL:https://downtownmoncton.com/event/theatre-capitol-theatre-the-china-syndrome-1979-movie-screening/2024-11-03/1/
LOCATION:Théâtre Capitol Theatre\, 811 Main Street
CATEGORIES:Arts,City Life
ATTACH;FMTTYPE=image/jpeg:https://downtownmoncton.com/wp-content/uploads/2024/09/the-china-syndrome-High-Quality.jpg
ORGANIZER;CN="Th%C3%A9%C3%A2tre Capitol Theatre":MAILTO:info@capitol.nb.ca
END:VEVENT
BEGIN:VEVENT
DTSTART;TZID=America/Halifax:20241103T193000
DTEND;TZID=America/Halifax:20241103T213000
DTSTAMP:20260420T042804
CREATED:20240925T112807Z
LAST-MODIFIED:20240925T113148Z
UID:10000138-1730662200-1730669400@downtownmoncton.com
SUMMARY:Théâtre Capitol Theatre - The China Syndrome (1979) Movie Screening
DESCRIPTION:
URL:https://downtownmoncton.com/event/theatre-capitol-theatre-the-china-syndrome-1979-movie-screening/2024-11-03/2/
LOCATION:Théâtre Capitol Theatre\, 811 Main Street
CATEGORIES:Arts,City Life
ATTACH;FMTTYPE=image/jpeg:https://downtownmoncton.com/wp-content/uploads/2024/09/the-china-syndrome-High-Quality.jpg
ORGANIZER;CN="Th%C3%A9%C3%A2tre Capitol Theatre":MAILTO:info@capitol.nb.ca
END:VEVENT
BEGIN:VEVENT
DTSTART;TZID=America/Halifax:20241104T193000
DTEND;TZID=America/Halifax:20241104T213000
DTSTAMP:20260420T042804
CREATED:20240925T114100Z
LAST-MODIFIED:20240925T114100Z
UID:10000141-1730748600-1730755800@downtownmoncton.com
SUMMARY:Sarah McLachlan
DESCRIPTION:
URL:https://downtownmoncton.com/event/sarah-mclachlan/
LOCATION:Avenir Centre\, 150 Canada Street\, Moncton\, Canada
CATEGORIES:Arts,City Life
ATTACH;FMTTYPE=image/jpeg:https://downtownmoncton.com/wp-content/uploads/2024/09/the-china-syndrome-High-Quality-1.jpg
END:VEVENT
BEGIN:VEVENT
DTSTART;TZID=America/Halifax:20241104T193000
DTEND;TZID=America/Halifax:20241104T213000
DTSTAMP:20260420T042804
CREATED:20240925T114558Z
LAST-MODIFIED:20240925T114558Z
UID:10000145-1730748600-1730755800@downtownmoncton.com
SUMMARY:Théâtre Capitol Theatre - For the Fallen – Symphony New Brunswick
DESCRIPTION:
URL:https://downtownmoncton.com/event/theatre-capitol-theatre-for-the-fallen-symphony-new-brunswick/
LOCATION:Théâtre Capitol Theatre\, 811 Main Street
CATEGORIES:Arts,City Life
ATTACH;FMTTYPE=image/jpeg:https://downtownmoncton.com/wp-content/uploads/2024/09/symphony-nb-High-Quality.jpg
ORGANIZER;CN="Th%C3%A9%C3%A2tre Capitol Theatre":MAILTO:info@capitol.nb.ca
END:VEVENT
BEGIN:VEVENT
DTSTART;TZID=America/Halifax:20241105T193000
DTEND;TZID=America/Halifax:20241105T213000
DTSTAMP:20260420T042804
CREATED:20240925T115732Z
LAST-MODIFIED:20240925T115732Z
UID:10000147-1730835000-1730842200@downtownmoncton.com
SUMMARY:Théâtre Capitol Theatre - Jeunesses Musicales Canada
DESCRIPTION:
URL:https://downtownmoncton.com/event/theatre-capitol-theatre-jeunesses-musicales-canada/
LOCATION:Théâtre Capitol Theatre\, 811 Main Street
CATEGORIES:Arts,City Life
ATTACH;FMTTYPE=image/jpeg:https://downtownmoncton.com/wp-content/uploads/2024/09/jeunesses-musicales-canada-High-Quality.jpg
ORGANIZER;CN="Th%C3%A9%C3%A2tre Capitol Theatre":MAILTO:info@capitol.nb.ca
END:VEVENT
BEGIN:VEVENT
DTSTART;TZID=America/Halifax:20241109T200000
DTEND;TZID=America/Halifax:20241109T220000
DTSTAMP:20260420T042804
CREATED:20240925T120052Z
LAST-MODIFIED:20240925T120052Z
UID:10000149-1731182400-1731189600@downtownmoncton.com
SUMMARY:Théâtre Capitol Theatre - Bobcaygeon a Tribute to The Tragically Hip
DESCRIPTION:
URL:https://downtownmoncton.com/event/theatre-capitol-theatre-bobcaygeon-a-tribute-to-the-tragically-hip/
LOCATION:Théâtre Capitol Theatre\, 811 Main Street
CATEGORIES:Arts,City Life
ATTACH;FMTTYPE=image/jpeg:https://downtownmoncton.com/wp-content/uploads/2024/09/Bobcaygeon-a-Tribute-to-The-Tragically-Hip-High-Quality.jpg
ORGANIZER;CN="Th%C3%A9%C3%A2tre Capitol Theatre":MAILTO:info@capitol.nb.ca
END:VEVENT
END:VCALENDAR