BEGIN:VCALENDAR
VERSION:2.0
PRODID:-//Downtown Moncton Centre-ville Inc. - ECPv6.15.20//NONSGML v1.0//EN
CALSCALE:GREGORIAN
METHOD:PUBLISH
X-ORIGINAL-URL:https://downtownmoncton.com
X-WR-CALDESC:Events for Downtown Moncton Centre-ville Inc.
REFRESH-INTERVAL;VALUE=DURATION:PT1H
X-Robots-Tag:noindex
X-PUBLISHED-TTL:PT1H
BEGIN:VTIMEZONE
TZID:America/Halifax
BEGIN:DAYLIGHT
TZOFFSETFROM:-0400
TZOFFSETTO:-0300
TZNAME:ADT
DTSTART:20230312T060000
END:DAYLIGHT
BEGIN:STANDARD
TZOFFSETFROM:-0300
TZOFFSETTO:-0400
TZNAME:AST
DTSTART:20231105T050000
END:STANDARD
BEGIN:DAYLIGHT
TZOFFSETFROM:-0400
TZOFFSETTO:-0300
TZNAME:ADT
DTSTART:20240310T060000
END:DAYLIGHT
BEGIN:STANDARD
TZOFFSETFROM:-0300
TZOFFSETTO:-0400
TZNAME:AST
DTSTART:20241103T050000
END:STANDARD
BEGIN:DAYLIGHT
TZOFFSETFROM:-0400
TZOFFSETTO:-0300
TZNAME:ADT
DTSTART:20250309T060000
END:DAYLIGHT
BEGIN:STANDARD
TZOFFSETFROM:-0300
TZOFFSETTO:-0400
TZNAME:AST
DTSTART:20251102T050000
END:STANDARD
END:VTIMEZONE
BEGIN:VEVENT
DTSTART;TZID=America/Halifax:20241011T190000
DTEND;TZID=America/Halifax:20241011T210000
DTSTAMP:20260420T015731
CREATED:20240917T111718Z
LAST-MODIFIED:20240917T112403Z
UID:10000086-1728673200-1728680400@downtownmoncton.com
SUMMARY:Jordan Davis: Damn Good Time World Tour
DESCRIPTION:
URL:https://downtownmoncton.com/event/jordan-davis-damn-good-time-world-tour/
LOCATION:Avenir Centre\, 150 Canada Street\, Moncton\, Canada
CATEGORIES:Arts,City Life
ATTACH;FMTTYPE=image/jpeg:https://downtownmoncton.com/wp-content/uploads/2024/09/jordan-davis-copy-High-Quality.jpg
END:VEVENT
BEGIN:VEVENT
DTSTART;TZID=America/Halifax:20241011T200000
DTEND;TZID=America/Halifax:20241011T220000
DTSTAMP:20260420T015731
CREATED:20240917T113128Z
LAST-MODIFIED:20240917T113128Z
UID:10000088-1728676800-1728684000@downtownmoncton.com
SUMMARY:Théâtre Capitol Theatre - Eve Côté
DESCRIPTION:
URL:https://downtownmoncton.com/event/theatre-capitol-theatre-eve-cote/
LOCATION:Théâtre Capitol Theatre\, 811 Main Street
CATEGORIES:Arts,City Life
ATTACH;FMTTYPE=image/jpeg:https://downtownmoncton.com/wp-content/uploads/2024/09/eve-cote-High-Quality.jpg
ORGANIZER;CN="Th%C3%A9%C3%A2tre Capitol Theatre":MAILTO:info@capitol.nb.ca
END:VEVENT
END:VCALENDAR