BEGIN:VCALENDAR
VERSION:2.0
PRODID:-//Downtown Moncton Centre-ville Inc. - ECPv6.15.20//NONSGML v1.0//EN
CALSCALE:GREGORIAN
METHOD:PUBLISH
X-ORIGINAL-URL:https://downtownmoncton.com
X-WR-CALDESC:Events for Downtown Moncton Centre-ville Inc.
REFRESH-INTERVAL;VALUE=DURATION:PT1H
X-Robots-Tag:noindex
X-PUBLISHED-TTL:PT1H
BEGIN:VTIMEZONE
TZID:America/Halifax
BEGIN:DAYLIGHT
TZOFFSETFROM:-0400
TZOFFSETTO:-0300
TZNAME:ADT
DTSTART:20230312T060000
END:DAYLIGHT
BEGIN:STANDARD
TZOFFSETFROM:-0300
TZOFFSETTO:-0400
TZNAME:AST
DTSTART:20231105T050000
END:STANDARD
BEGIN:DAYLIGHT
TZOFFSETFROM:-0400
TZOFFSETTO:-0300
TZNAME:ADT
DTSTART:20240310T060000
END:DAYLIGHT
BEGIN:STANDARD
TZOFFSETFROM:-0300
TZOFFSETTO:-0400
TZNAME:AST
DTSTART:20241103T050000
END:STANDARD
BEGIN:DAYLIGHT
TZOFFSETFROM:-0400
TZOFFSETTO:-0300
TZNAME:ADT
DTSTART:20250309T060000
END:DAYLIGHT
BEGIN:STANDARD
TZOFFSETFROM:-0300
TZOFFSETTO:-0400
TZNAME:AST
DTSTART:20251102T050000
END:STANDARD
END:VTIMEZONE
BEGIN:VEVENT
DTSTART;TZID=America/Halifax:20240810T190000
DTEND;TZID=America/Halifax:20240810T210000
DTSTAMP:20260420T025731
CREATED:20240703T134235Z
LAST-MODIFIED:20240703T134235Z
UID:10000054-1723316400-1723323600@downtownmoncton.com
SUMMARY:Theo Von – Return of the Rat
DESCRIPTION:
URL:https://downtownmoncton.com/event/theo-von-return-of-the-rat/
LOCATION:Avenir Centre\, 150 Canada Street\, Moncton\, Canada
CATEGORIES:Arts,City Life
ATTACH;FMTTYPE=image/jpeg:https://downtownmoncton.com/wp-content/uploads/2024/07/theo-von-High-Quality.jpg
END:VEVENT
BEGIN:VEVENT
DTSTART;VALUE=DATE:20240813
DTEND;VALUE=DATE:20240819
DTSTAMP:20260420T025731
CREATED:20240617T124927Z
LAST-MODIFIED:20240617T124927Z
UID:10000048-1723507200-1724025599@downtownmoncton.com
SUMMARY:Acadie Rock
DESCRIPTION:
URL:https://downtownmoncton.com/event/acadie-rock/
LOCATION:Downtown\, Moncton\, NB\, Canada
CATEGORIES:Arts,City Life,Cultural
ATTACH;FMTTYPE=image/jpeg:https://downtownmoncton.com/wp-content/uploads/2024/06/acadie-rock-High-Quality.jpg
END:VEVENT
BEGIN:VEVENT
DTSTART;TZID=America/Halifax:20240821T200000
DTEND;TZID=America/Halifax:20240821T220000
DTSTAMP:20260420T025731
CREATED:20240703T142745Z
LAST-MODIFIED:20240703T142745Z
UID:10000056-1724270400-1724277600@downtownmoncton.com
SUMMARY:Billy Idol – Rebel Yell
DESCRIPTION:
URL:https://downtownmoncton.com/event/billy-idol-rebel-yell/
LOCATION:Avenir Centre\, 150 Canada Street\, Moncton\, Canada
CATEGORIES:Arts,City Life
ATTACH;FMTTYPE=image/jpeg:https://downtownmoncton.com/wp-content/uploads/2024/07/billy-idol-High-Quality.jpg
END:VEVENT
END:VCALENDAR