BEGIN:VCALENDAR
VERSION:2.0
PRODID:-//Downtown Moncton Centre-ville Inc. - ECPv6.15.20//NONSGML v1.0//EN
CALSCALE:GREGORIAN
METHOD:PUBLISH
X-ORIGINAL-URL:https://downtownmoncton.com
X-WR-CALDESC:Events for Downtown Moncton Centre-ville Inc.
REFRESH-INTERVAL;VALUE=DURATION:PT1H
X-Robots-Tag:noindex
X-PUBLISHED-TTL:PT1H
BEGIN:VTIMEZONE
TZID:America/Halifax
BEGIN:DAYLIGHT
TZOFFSETFROM:-0400
TZOFFSETTO:-0300
TZNAME:ADT
DTSTART:20230312T060000
END:DAYLIGHT
BEGIN:STANDARD
TZOFFSETFROM:-0300
TZOFFSETTO:-0400
TZNAME:AST
DTSTART:20231105T050000
END:STANDARD
BEGIN:DAYLIGHT
TZOFFSETFROM:-0400
TZOFFSETTO:-0300
TZNAME:ADT
DTSTART:20240310T060000
END:DAYLIGHT
BEGIN:STANDARD
TZOFFSETFROM:-0300
TZOFFSETTO:-0400
TZNAME:AST
DTSTART:20241103T050000
END:STANDARD
BEGIN:DAYLIGHT
TZOFFSETFROM:-0400
TZOFFSETTO:-0300
TZNAME:ADT
DTSTART:20250309T060000
END:DAYLIGHT
BEGIN:STANDARD
TZOFFSETFROM:-0300
TZOFFSETTO:-0400
TZNAME:AST
DTSTART:20251102T050000
END:STANDARD
END:VTIMEZONE
BEGIN:VEVENT
DTSTART;VALUE=DATE:20241115
DTEND;VALUE=DATE:20241118
DTSTAMP:20260420T042544
CREATED:20241001T133249Z
LAST-MODIFIED:20241001T133249Z
UID:10000161-1731628800-1731887999@downtownmoncton.com
SUMMARY:Théâtre Capitol Theatre - Salebarbes à boires deboutte
DESCRIPTION:
URL:https://downtownmoncton.com/event/theatre-capitol-theatre-salebarbes-a-boires-deboutte/
LOCATION:Théâtre Capitol Theatre\, 811 Main Street
CATEGORIES:Arts,City Life
ATTACH;FMTTYPE=image/jpeg:https://downtownmoncton.com/wp-content/uploads/2024/10/salebarbes-High-Quality.jpg
ORGANIZER;CN="Th%C3%A9%C3%A2tre Capitol Theatre":MAILTO:info@capitol.nb.ca
END:VEVENT
BEGIN:VEVENT
DTSTART;VALUE=DATE:20241116
DTEND;VALUE=DATE:20241117
DTSTAMP:20260420T042544
CREATED:20240923T152053Z
LAST-MODIFIED:20241113T222236Z
UID:10000123-1731715200-1731801599@downtownmoncton.com
SUMMARY:NCAA Atlantic Slam
DESCRIPTION:
URL:https://downtownmoncton.com/event/ncaa-atlantic-slam/
LOCATION:Avenir Centre\, 150 Canada Street\, Moncton\, Canada
CATEGORIES:City Life
ATTACH;FMTTYPE=image/jpeg:https://downtownmoncton.com/wp-content/uploads/2024/09/atlantic-slam-High-Quality-1.jpg
END:VEVENT
END:VCALENDAR