BEGIN:VCALENDAR
VERSION:2.0
PRODID:-//Downtown Moncton Centre-ville Inc. - ECPv6.15.20//NONSGML v1.0//EN
CALSCALE:GREGORIAN
METHOD:PUBLISH
X-WR-CALNAME:Downtown Moncton Centre-ville Inc.
X-ORIGINAL-URL:https://downtownmoncton.com
X-WR-CALDESC:Events for Downtown Moncton Centre-ville Inc.
REFRESH-INTERVAL;VALUE=DURATION:PT1H
X-Robots-Tag:noindex
X-PUBLISHED-TTL:PT1H
BEGIN:VTIMEZONE
TZID:America/Halifax
BEGIN:DAYLIGHT
TZOFFSETFROM:-0400
TZOFFSETTO:-0300
TZNAME:ADT
DTSTART:20230312T060000
END:DAYLIGHT
BEGIN:STANDARD
TZOFFSETFROM:-0300
TZOFFSETTO:-0400
TZNAME:AST
DTSTART:20231105T050000
END:STANDARD
BEGIN:DAYLIGHT
TZOFFSETFROM:-0400
TZOFFSETTO:-0300
TZNAME:ADT
DTSTART:20240310T060000
END:DAYLIGHT
BEGIN:STANDARD
TZOFFSETFROM:-0300
TZOFFSETTO:-0400
TZNAME:AST
DTSTART:20241103T050000
END:STANDARD
BEGIN:DAYLIGHT
TZOFFSETFROM:-0400
TZOFFSETTO:-0300
TZNAME:ADT
DTSTART:20250309T060000
END:DAYLIGHT
BEGIN:STANDARD
TZOFFSETFROM:-0300
TZOFFSETTO:-0400
TZNAME:AST
DTSTART:20251102T050000
END:STANDARD
END:VTIMEZONE
BEGIN:VEVENT
DTSTART;TZID=America/Halifax:20241019T193000
DTEND;TZID=America/Halifax:20241019T213000
DTSTAMP:20260420T042358
CREATED:20240917T163604Z
LAST-MODIFIED:20240917T165056Z
UID:10000109-1729366200-1729373400@downtownmoncton.com
SUMMARY:Arkells Big Feelings Tour
DESCRIPTION:
URL:https://downtownmoncton.com/event/arkells-big-feelings-tour/
LOCATION:Avenir Centre\, 150 Canada Street\, Moncton\, Canada
CATEGORIES:Arts,City Life
ATTACH;FMTTYPE=image/jpeg:https://downtownmoncton.com/wp-content/uploads/2024/09/arkells-big-feelings-tour-High-Quality.jpg
END:VEVENT
BEGIN:VEVENT
DTSTART;TZID=America/Halifax:20241019T200000
DTEND;TZID=America/Halifax:20241019T220000
DTSTAMP:20260420T042358
CREATED:20240917T163228Z
LAST-MODIFIED:20240917T163228Z
UID:10000107-1729368000-1729375200@downtownmoncton.com
SUMMARY:Théâtre Capitol Theatre - Arts Atlantic Symposium Keynote Address with Possesom Paul and Special Guests
DESCRIPTION:
URL:https://downtownmoncton.com/event/theatre-capitol-theatre-arts-atlantic-symposium-keynote-address-with-possesom-paul-and-special-guests/
LOCATION:Théâtre Capitol Theatre\, 811 Main Street
CATEGORIES:Arts,City Life,Cultural
ATTACH;FMTTYPE=image/jpeg:https://downtownmoncton.com/wp-content/uploads/2024/09/capitol-events-High-Quality-4.jpg
ORGANIZER;CN="Th%C3%A9%C3%A2tre Capitol Theatre":MAILTO:info@capitol.nb.ca
END:VEVENT
END:VCALENDAR