BEGIN:VCALENDAR
VERSION:2.0
PRODID:-//Downtown Moncton Centre-ville Inc. - ECPv6.15.20//NONSGML v1.0//EN
CALSCALE:GREGORIAN
METHOD:PUBLISH
X-WR-CALNAME:Downtown Moncton Centre-ville Inc.
X-ORIGINAL-URL:https://downtownmoncton.com/fr/
X-WR-CALDESC:Événements pour Downtown Moncton Centre-ville Inc.
REFRESH-INTERVAL;VALUE=DURATION:PT1H
X-Robots-Tag:noindex
X-PUBLISHED-TTL:PT1H
BEGIN:VTIMEZONE
TZID:America/Halifax
BEGIN:DAYLIGHT
TZOFFSETFROM:-0400
TZOFFSETTO:-0300
TZNAME:ADT
DTSTART:20240310T060000
END:DAYLIGHT
BEGIN:STANDARD
TZOFFSETFROM:-0300
TZOFFSETTO:-0400
TZNAME:AST
DTSTART:20241103T050000
END:STANDARD
BEGIN:DAYLIGHT
TZOFFSETFROM:-0400
TZOFFSETTO:-0300
TZNAME:ADT
DTSTART:20250309T060000
END:DAYLIGHT
BEGIN:STANDARD
TZOFFSETFROM:-0300
TZOFFSETTO:-0400
TZNAME:AST
DTSTART:20251102T050000
END:STANDARD
BEGIN:DAYLIGHT
TZOFFSETFROM:-0400
TZOFFSETTO:-0300
TZNAME:ADT
DTSTART:20260308T060000
END:DAYLIGHT
BEGIN:STANDARD
TZOFFSETFROM:-0300
TZOFFSETTO:-0400
TZNAME:AST
DTSTART:20261101T050000
END:STANDARD
BEGIN:DAYLIGHT
TZOFFSETFROM:-0400
TZOFFSETTO:-0300
TZNAME:ADT
DTSTART:20270314T060000
END:DAYLIGHT
BEGIN:STANDARD
TZOFFSETFROM:-0300
TZOFFSETTO:-0400
TZNAME:AST
DTSTART:20271107T050000
END:STANDARD
BEGIN:DAYLIGHT
TZOFFSETFROM:-0400
TZOFFSETTO:-0300
TZNAME:ADT
DTSTART:20280312T060000
END:DAYLIGHT
BEGIN:STANDARD
TZOFFSETFROM:-0300
TZOFFSETTO:-0400
TZNAME:AST
DTSTART:20281105T050000
END:STANDARD
END:VTIMEZONE
BEGIN:VEVENT
DTSTART;VALUE=DATE:20250424
DTEND;VALUE=DATE:20260504
DTSTAMP:20260420T024115
CREATED:20230303T162827Z
LAST-MODIFIED:20260408T111519Z
UID:10000003-1745452800-1777852799@downtownmoncton.com
SUMMARY:Festival Frye
DESCRIPTION:Site webFacebook
URL:https://downtownmoncton.com/fr/event/festival-frye/
CATEGORIES:Littéraire
ATTACH;FMTTYPE=image/jpeg:https://downtownmoncton.com/wp-content/uploads/2023/03/frye-festival-Medium-Quality-1.jpg
ORGANIZER;CN="Le festival Frye":MAILTO:info@frye.ca
END:VEVENT
BEGIN:VEVENT
DTSTART;VALUE=DATE:20260409
DTEND;VALUE=DATE:20260427
DTSTAMP:20260420T024115
CREATED:20260408T111118Z
LAST-MODIFIED:20260408T111229Z
UID:10000461-1775692800-1777247999@downtownmoncton.com
SUMMARY:Greater Moncton Poutine Fest
DESCRIPTION:
URL:https://downtownmoncton.com/fr/event/greater-moncton-poutine-fest/
LOCATION:Centre-ville\, Moncton\, NB\, Canada
CATEGORIES:La vie en ville
ATTACH;FMTTYPE=image/jpeg:https://downtownmoncton.com/wp-content/uploads/2026/04/poutine-festival-High-Quality.jpg
END:VEVENT
BEGIN:VEVENT
DTSTART;VALUE=DATE:20260411
DTEND;VALUE=DATE:20260427
DTSTAMP:20260420T024115
CREATED:20260326T114447Z
LAST-MODIFIED:20260326T114447Z
UID:10000459-1775865600-1777247999@downtownmoncton.com
SUMMARY:Arab Heritage Festival
DESCRIPTION:The Arab Heritage Festival 2026 will be the 5th iteration of this versatile program that celebrates Arab culture in April – Arab Heritage Month. The festival celebrates Arab culture through multidisciplinary programming. It is a recurring event that keeps growing in scope and reach\, engaging artists from New Brunswick as well as other provinces (Arab and Canadian\, both Anglophone and Francophone) who jointly work on artistic productions\, as well as members and volunteers from the Arab community who share their rich language and heritage with pride\, and invite the community at large to experience the magic of Arab Culture.
URL:https://downtownmoncton.com/fr/event/arab-heritage-festival/
LOCATION:Centre-ville\, Moncton\, NB\, Canada
CATEGORIES:Culturel
ATTACH;FMTTYPE=image/jpeg:https://downtownmoncton.com/wp-content/uploads/2026/03/The-Arab-Heritage-Festival-High-Quality.jpg
END:VEVENT
BEGIN:VEVENT
DTSTART;TZID=America/Halifax:20260421T190000
DTEND;TZID=America/Halifax:20260421T210000
DTSTAMP:20260420T024115
CREATED:20260320T102539Z
LAST-MODIFIED:20260320T102647Z
UID:10000453-1776798000-1776805200@downtownmoncton.com
SUMMARY:Dylan Mahaney: Might Not Be Funny
DESCRIPTION:Xeroz Arcade Bar hosts Dylan Mahaney: Might Not Be Funny Tuesday\, April 21st\, 2026 at 7pm. A fabulous night of affirming and hilarious family-related comedy headlined by Dylan Mahaney and hosted by Colleen Landry. (19+ event) \nTicket purchases and information can be found at standupdylan.com
URL:https://downtownmoncton.com/fr/event/dylan-mahaney-might-not-be-funny/
LOCATION:Xeroz Arcade Bar\, 234\, St. George\, Moncton\, E1C 1V9
CATEGORIES:Arts
ATTACH;FMTTYPE=image/jpeg:https://downtownmoncton.com/wp-content/uploads/2026/03/mightnotbefunny-1200-x-520-px.jpg
END:VEVENT
BEGIN:VEVENT
DTSTART;TZID=America/Halifax:20260423T183000
DTEND;TZID=America/Halifax:20260423T200000
DTSTAMP:20260420T024115
CREATED:20260414T165903Z
LAST-MODIFIED:20260414T170035Z
UID:10000466-1776969000-1776974400@downtownmoncton.com
SUMMARY:De l’obturateur au timbre : une histoire des cartes postales photographiques
DESCRIPTION:De l’obturateur au timbre : une histoire des cartes postales photographiques \nAvec la création de l’appareil photo pliant Brownie modèle 3A en 1909\, Kodak a permis aux gens ordinaires de prendre des photos et de créer leurs propres cartes postales photographiques\, qu’ils envoyaient à leurs amis et à leur famille partout dans le monde. \nCollectionneuse et historienne de longue date\, Brenda présentera l’histoire des cartes postales photographiques\, les photographes du Nouveau-Brunswick qui les ont produites\, et partagera certaines des cartes postales photographiques (RPPC) uniques de sa collection provenant du sud du Nouveau-Brunswick\, y compris des comtés de Westmorland et d’Albert. \nBrenda P. Orr\, ancienne directrice de la Place Resurgo\, Culture et patrimoine\, Ville de Moncton\, présidente de la Fondation du Musée du Nouveau-Brunswick \n*Veuillez noter que la présentation sera en anglais. \n📅  Date : Jeudi 23 avril 2026\n🕖  Heure : 18 h 30 à 20 h\n📍  Lieu : 20\, chemin Mountain\, Moncton\n👉  Gratuit: aucune inscription requise
URL:https://downtownmoncton.com/fr/event/de-lobturateur-au-timbre-une-histoire-des-cartes-postales-photographiques/
LOCATION:Resurgo Place\, 20 Mountain Road\, Moncton
CATEGORIES:Arts,La vie en ville
ATTACH;FMTTYPE=image/jpeg:https://downtownmoncton.com/wp-content/uploads/2026/04/shutter-to-stamp.jpg
END:VEVENT
BEGIN:VEVENT
DTSTART;TZID=America/Halifax:20260424T190000
DTEND;TZID=America/Halifax:20260424T210000
DTSTAMP:20260420T024115
CREATED:20260108T120215Z
LAST-MODIFIED:20260108T120215Z
UID:10000429-1777057200-1777064400@downtownmoncton.com
SUMMARY:Stars On Ice
DESCRIPTION:
URL:https://downtownmoncton.com/fr/event/stars-on-ice/
LOCATION:Centre Avenir\, 150 Canada Street\, Moncton\, Canada
CATEGORIES:Arts
ATTACH;FMTTYPE=image/jpeg:https://downtownmoncton.com/wp-content/uploads/2026/01/stars-on-ice-moncton-High-Quality.jpg
END:VEVENT
BEGIN:VEVENT
DTSTART;TZID=America/Halifax:20260429T200000
DTEND;TZID=America/Halifax:20260429T230000
DTSTAMP:20260420T024115
CREATED:20260108T115919Z
LAST-MODIFIED:20260108T120049Z
UID:10000427-1777492800-1777503600@downtownmoncton.com
SUMMARY:Triumph: The Rock & Roll Machine Reloaded Tour
DESCRIPTION:
URL:https://downtownmoncton.com/fr/event/triumph-the-rock-roll-machine-reloaded-tour/
LOCATION:Centre Avenir\, 150 Canada Street\, Moncton\, Canada
CATEGORIES:Arts
ATTACH;FMTTYPE=image/jpeg:https://downtownmoncton.com/wp-content/uploads/2026/01/Triumph-The-Rock-Roll-Machine-Reloaded-Tour-High-Quality.jpg
END:VEVENT
BEGIN:VEVENT
DTSTART;VALUE=DATE:20260501
DTEND;VALUE=DATE:20260511
DTSTAMP:20260420T024115
CREATED:20230425T162502Z
LAST-MODIFIED:20260408T113634Z
UID:10000010-1777593600-1778457599@downtownmoncton.com
SUMMARY:Semaine des tacos de Moncton
DESCRIPTION:
URL:https://downtownmoncton.com/fr/event/semaine-des-tacos-moncton/
LOCATION:Centre-ville\, Moncton\, NB\, Canada
CATEGORIES:La vie en ville
ATTACH;FMTTYPE=image/jpeg:https://downtownmoncton.com/wp-content/uploads/2023/04/moncton-taco-week-Medium-Quality-1.jpg
ORGANIZER;CN="Semaine des tacos de Moncton":MAILTO:info@jaredbetts.com
END:VEVENT
BEGIN:VEVENT
DTSTART;TZID=America/Halifax:20260507T193000
DTEND;TZID=America/Halifax:20260507T213000
DTSTAMP:20260420T024115
CREATED:20251210T141446Z
LAST-MODIFIED:20251210T141849Z
UID:10000413-1778182200-1778189400@downtownmoncton.com
SUMMARY:Three Days Grace - Alienation Tour
DESCRIPTION:
URL:https://downtownmoncton.com/fr/event/three-days-grace-alienation-tour/
LOCATION:Centre Avenir\, 150 Canada Street\, Moncton\, Canada
CATEGORIES:Arts
ATTACH;FMTTYPE=image/jpeg:https://downtownmoncton.com/wp-content/uploads/2025/12/Three-Days-Grace-Alienation-Tour-High-Quality.jpg
END:VEVENT
BEGIN:VEVENT
DTSTART;TZID=America/Halifax:20260526T140000
DTEND;TZID=America/Halifax:20260526T160000
DTSTAMP:20260420T024115
CREATED:20251210T144855Z
LAST-MODIFIED:20251210T145035Z
UID:10000419-1779804000-1779811200@downtownmoncton.com
SUMMARY:Monster Spectacular
DESCRIPTION:
URL:https://downtownmoncton.com/fr/event/monster-spectacular/
LOCATION:Centre Avenir\, 150 Canada Street\, Moncton\, Canada
CATEGORIES:La vie en ville
ATTACH;FMTTYPE=image/jpeg:https://downtownmoncton.com/wp-content/uploads/2025/12/monster-spectacular-High-Quality.jpg
END:VEVENT
BEGIN:VEVENT
DTSTART;TZID=America/Halifax:20260526T193000
DTEND;TZID=America/Halifax:20260526T213000
DTSTAMP:20260420T024115
CREATED:20251210T142037Z
LAST-MODIFIED:20251210T142140Z
UID:10000415-1779823800-1779831000@downtownmoncton.com
SUMMARY:The Guess Who: Takin It Back Tour
DESCRIPTION:
URL:https://downtownmoncton.com/fr/event/the-guess-who-takin-it-back-tour/
LOCATION:Centre Avenir\, 150 Canada Street\, Moncton\, Canada
CATEGORIES:Arts
ATTACH;FMTTYPE=image/jpeg:https://downtownmoncton.com/wp-content/uploads/2025/12/The-Guess-Who-Takin-It-Back-Tour-High-Quality.jpg
END:VEVENT
BEGIN:VEVENT
DTSTART;VALUE=DATE:20260609
DTEND;VALUE=DATE:20260614
DTSTAMP:20260420T024115
CREATED:20230425T165414Z
LAST-MODIFIED:20260408T113853Z
UID:10000012-1780963200-1781395199@downtownmoncton.com
SUMMARY:Les jeux des Highlands et festival écossais de Moncton
DESCRIPTION:
URL:https://downtownmoncton.com/fr/event/les-jeux-highlands-et-festival-ecossais-moncton/
LOCATION:Sportsplex Hal Betts\, 250 boul. Assomption\, Moncton\, E1C 0R5\, Canada
CATEGORIES:Culturel
ATTACH;FMTTYPE=image/jpeg:https://downtownmoncton.com/wp-content/uploads/2023/04/highland-games-High-Quality.jpg
ORGANIZER;CN="Greater Moncton Scottish Association":MAILTO:greatermonctonscots@gmail.com
END:VEVENT
BEGIN:VEVENT
DTSTART;VALUE=DATE:20260618
DTEND;VALUE=DATE:20260622
DTSTAMP:20260420T024115
CREATED:20250310T100945Z
LAST-MODIFIED:20260327T101107Z
UID:10000047-1781740800-1782086399@downtownmoncton.com
SUMMARY:Ribfest Moncton
DESCRIPTION:
URL:https://downtownmoncton.com/fr/event/ribfest-moncton/
LOCATION:Centre-ville\, Moncton\, NB\, Canada
CATEGORIES:La vie en ville
ATTACH;FMTTYPE=image/jpeg:https://downtownmoncton.com/wp-content/uploads/2025/03/ribfest-moncton-High-Quality-1.jpg
END:VEVENT
BEGIN:VEVENT
DTSTART;VALUE=DATE:20260709
DTEND;VALUE=DATE:20260713
DTSTAMP:20260420T024115
CREATED:20250310T110256Z
LAST-MODIFIED:20260408T114324Z
UID:10000023-1783555200-1783900799@downtownmoncton.com
SUMMARY:East Coast Classics Tournoi Slo-Pitch
DESCRIPTION:
URL:https://downtownmoncton.com/fr/event/east-coast-classics-tournoi-slo-pitch/
LOCATION:Sportsplex Hal Betts\, 250 boul. Assomption\, Moncton\, E1C 0R5\, Canada
CATEGORIES:La vie en ville
ATTACH;FMTTYPE=image/jpeg:https://downtownmoncton.com/wp-content/uploads/2023/07/east-coast-softball-classic-High-Quality.jpg
END:VEVENT
BEGIN:VEVENT
DTSTART;VALUE=DATE:20260715
DTEND;VALUE=DATE:20260720
DTSTAMP:20260420T024115
CREATED:20250310T102321Z
LAST-MODIFIED:20260320T103621Z
UID:10000053-1784073600-1784505599@downtownmoncton.com
SUMMARY:Atlantic Nationals
DESCRIPTION:
URL:https://downtownmoncton.com/fr/event/atlantic-nationals/
LOCATION:Centre-ville\, Moncton\, NB\, Canada
CATEGORIES:La vie en ville
ATTACH;FMTTYPE=image/jpeg:https://downtownmoncton.com/wp-content/uploads/2024/07/atlantic-nationals-High-Quality.jpg
ORGANIZER;CN="Atlantic Nationals":MAILTO:Info@atlanticnationals.com
END:VEVENT
BEGIN:VEVENT
DTSTART;VALUE=DATE:20260724
DTEND;VALUE=DATE:20260727
DTSTAMP:20260420T024115
CREATED:20250306T160033Z
LAST-MODIFIED:20260320T103312Z
UID:10000017-1784851200-1785110399@downtownmoncton.com
SUMMARY:Festival international d'amuseurs publics de Moncton
DESCRIPTION:
URL:https://downtownmoncton.com/fr/event/moncton-festival-international-amuseurs-publics-de-moncton/
LOCATION:Rue Main\, Moncton\, NB\, Canada
CATEGORIES:La vie en ville
ATTACH;FMTTYPE=image/jpeg:https://downtownmoncton.com/wp-content/uploads/2025/03/buskers-festival-High-Quality.jpg
ORGANIZER;CN="Moncton Centre-ville":MAILTO:dmci@downtownmoncton.com
END:VEVENT
BEGIN:VEVENT
DTSTART;VALUE=DATE:20260731
DTEND;VALUE=DATE:20260802
DTSTAMP:20260420T024115
CREATED:20260408T114858Z
LAST-MODIFIED:20260408T115033Z
UID:10000464-1785456000-1785628799@downtownmoncton.com
SUMMARY:Atlantic JerkFlava
DESCRIPTION:
URL:https://downtownmoncton.com/fr/event/atlantic-jerkflava/
LOCATION:Parc Riverain\, E1C 1A1\, Canada
CATEGORIES:Culturel,La vie en ville
ATTACH;FMTTYPE=image/jpeg:https://downtownmoncton.com/wp-content/uploads/2026/04/atlantic-jerkflava-High-Quality.jpg
END:VEVENT
BEGIN:VEVENT
DTSTART;VALUE=DATE:20260731
DTEND;VALUE=DATE:20260809
DTSTAMP:20260420T024115
CREATED:20230712T115443Z
LAST-MODIFIED:20250402T144922Z
UID:10000030-1785456000-1786233599@downtownmoncton.com
SUMMARY:Rivière de la fierté
DESCRIPTION:
URL:https://downtownmoncton.com/fr/event/riviere-de-la-fierte/
LOCATION:Centre-ville\, Moncton\, NB\, Canada
CATEGORIES:La vie en ville
ATTACH;FMTTYPE=image/jpeg:https://downtownmoncton.com/wp-content/uploads/2023/07/river-of-pride-High-Quality-3.jpg
ORGANIZER;CN="River of Pride":MAILTO:info@riverofpride.com
END:VEVENT
BEGIN:VEVENT
DTSTART;VALUE=DATE:20260814
DTEND;VALUE=DATE:20260819
DTSTAMP:20260420T024115
CREATED:20250712T114105Z
LAST-MODIFIED:20260408T120436Z
UID:10000028-1786665600-1787097599@downtownmoncton.com
SUMMARY:Atlantic Dance Festival
DESCRIPTION:
URL:https://downtownmoncton.com/fr/event/atlantic-dance-festival/
LOCATION:Centre-ville\, Moncton\, NB\, Canada
CATEGORIES:Arts,La vie en ville
ATTACH;FMTTYPE=image/jpeg:https://downtownmoncton.com/wp-content/uploads/2023/07/atlantic-dance-festival-High-Quality-1.jpg
ORGANIZER;CN="Les Productions DansEncorps":MAILTO:coordination@dansencorps.ca
END:VEVENT
BEGIN:VEVENT
DTSTART;TZID=America/Halifax:20260925T190000
DTEND;TZID=America/Halifax:20260925T210000
DTSTAMP:20260420T024115
CREATED:20260210T203705Z
LAST-MODIFIED:20260210T203934Z
UID:10000441-1790362800-1790370000@downtownmoncton.com
SUMMARY:The Grand Tour - Classic Country Hits from 50’s\, 60’s\, 70’s and 80’s
DESCRIPTION:
URL:https://downtownmoncton.com/fr/event/the-grand-tour-classic-country-hits-from-50s-60s-70s-and-80s/
LOCATION:Théâtre Capitol Theatre\, 811 Main Street
CATEGORIES:Arts
ATTACH;FMTTYPE=image/jpeg:https://downtownmoncton.com/wp-content/uploads/2026/02/The-Grand-Tour-Classic-Country-Hits-from-50s-60s-70s-and-80s-High-Quality.jpg
ORGANIZER;CN="Th%C3%A9%C3%A2tre Capitol Theatre":MAILTO:info@capitol.nb.ca
END:VEVENT
BEGIN:VEVENT
DTSTART;TZID=America/Halifax:20261013T193000
DTEND;TZID=America/Halifax:20261013T213000
DTSTAMP:20260420T024115
CREATED:20260210T204349Z
LAST-MODIFIED:20260210T204505Z
UID:10000443-1791919800-1791927000@downtownmoncton.com
SUMMARY:The Black Keys: Peaches 'n Kream World Tour
DESCRIPTION:
URL:https://downtownmoncton.com/fr/event/the-black-keys-peaches-n-kream-world-tour/
LOCATION:Centre Avenir\, 150 Canada Street\, Moncton\, Canada
CATEGORIES:Arts
ATTACH;FMTTYPE=image/jpeg:https://downtownmoncton.com/wp-content/uploads/2026/02/The-black-keys-peaches-n-kream-tour-High-Quality.jpg
END:VEVENT
BEGIN:VEVENT
DTSTART;TZID=America/Halifax:20261020T193000
DTEND;TZID=America/Halifax:20261020T213000
DTSTAMP:20260420T024115
CREATED:20260320T095549Z
LAST-MODIFIED:20260320T095718Z
UID:10000449-1792524600-1792531800@downtownmoncton.com
SUMMARY:The Sheepdogs: Out All Night Tour
DESCRIPTION:
URL:https://downtownmoncton.com/fr/event/the-sheepdogs-out-all-night-tour/
LOCATION:Théâtre Capitol Theatre\, 811 Main Street
CATEGORIES:Arts
ATTACH;FMTTYPE=image/jpeg:https://downtownmoncton.com/wp-content/uploads/2026/03/The-Sheepdogs-Out-All-Night-Tour-High-Quality.jpg
ORGANIZER;CN="Th%C3%A9%C3%A2tre Capitol Theatre":MAILTO:info@capitol.nb.ca
END:VEVENT
BEGIN:VEVENT
DTSTART;TZID=America/Halifax:20261119T193000
DTEND;TZID=America/Halifax:20261119T213000
DTSTAMP:20260420T024115
CREATED:20260108T114934Z
LAST-MODIFIED:20260108T115046Z
UID:10000421-1795116600-1795123800@downtownmoncton.com
SUMMARY:Jimmy Carr: Laughs Funny
DESCRIPTION:
URL:https://downtownmoncton.com/fr/event/jimmy-carr-laughs-funny/
LOCATION:Centre Avenir\, 150 Canada Street\, Moncton\, Canada
CATEGORIES:Arts
ATTACH;FMTTYPE=image/jpeg:https://downtownmoncton.com/wp-content/uploads/2026/01/jimmy-carr-moncton-High-Quality.jpg
END:VEVENT
BEGIN:VEVENT
DTSTART;TZID=America/Halifax:20270311T193000
DTEND;TZID=America/Halifax:20270311T213000
DTSTAMP:20260420T024115
CREATED:20260320T102150Z
LAST-MODIFIED:20260320T102246Z
UID:10000451-1804793400-1804800600@downtownmoncton.com
SUMMARY:Hotel California: The Original Eagles Tribute
DESCRIPTION:
URL:https://downtownmoncton.com/fr/event/hotel-california-the-original-eagles-tribute/
LOCATION:Théâtre Capitol Theatre\, 811 Main Street
CATEGORIES:Arts
ATTACH;FMTTYPE=image/jpeg:https://downtownmoncton.com/wp-content/uploads/2026/03/Hotel-California-The-Original-Eagles-Tribute-High-Quality.jpg
ORGANIZER;CN="Th%C3%A9%C3%A2tre Capitol Theatre":MAILTO:info@capitol.nb.ca
END:VEVENT
END:VCALENDAR